BEGIN:VCALENDAR
VERSION:2.0
PRODID:-//Art on Target - ECPv6.15.18//NONSGML v1.0//EN
CALSCALE:GREGORIAN
METHOD:PUBLISH
X-ORIGINAL-URL:https://artontarget.co.za
X-WR-CALDESC:Events for Art on Target
REFRESH-INTERVAL;VALUE=DURATION:PT1H
X-Robots-Tag:noindex
X-PUBLISHED-TTL:PT1H
BEGIN:VTIMEZONE
TZID:UTC
BEGIN:STANDARD
TZOFFSETFROM:+0000
TZOFFSETTO:+0000
TZNAME:UTC
DTSTART:20230101T000000
END:STANDARD
END:VTIMEZONE
BEGIN:VEVENT
DTSTART;TZID=UTC:20240629T180000
DTEND;TZID=UTC:20240629T230000
DTSTAMP:20260421T173437
CREATED:20240603T091919Z
LAST-MODIFIED:20240624T130732Z
UID:4370-1719684000-1719702000@artontarget.co.za
SUMMARY:Come Dine with Us - VIP Opening
DESCRIPTION:FULLY BOOKED!\nIndulge all five your senses at our exclusive exhibition opening of “Come Dine With Us\,” where good\, wholesome food meets live music and ceramic art! \nAs you wander through the art-filled space\, let your senses be delighted by the diversity of artistic expressions on display\, and let the magic of creativity inspire you. \nPicture this: banquet tables adorned with exquisite ceramic ware\, from ceramic candle holders and candelabras\, dinnerware and wine goblets\, ceramic serve ware and dessert stands to vases filled with beautiful flowers. Each piece handmade and a masterpiece in its own right. This exhibition promises to be a feast for the eyes and soul. \nPS: Did we mention that your ticket includes a gift from us?! Yes! Your very own handmade\, one-off soup bowl. \nBookings are essential (a maximum of 50 people can be accommodated)\, so book yours now and prepare for an unforgettable night of culinary\, musical and artistic fun! Please note that this is a Bring Your Own Beverages event. \nFor more information please contact us on ceramics.easterncape@gmail.com.
URL:https://artontarget.co.za/event/come-dine-with-us-vip-opening/
LOCATION:Art on Target\, 2 Target Kloof\, Port Elizabeth\, Eastern Cape\, 6001\, South Africa
END:VEVENT
END:VCALENDAR