BEGIN:VCALENDAR
VERSION:2.0
PRODID:-//Art on Target - ECPv6.15.18//NONSGML v1.0//EN
CALSCALE:GREGORIAN
METHOD:PUBLISH
X-ORIGINAL-URL:https://artontarget.co.za
X-WR-CALDESC:Events for Art on Target
REFRESH-INTERVAL;VALUE=DURATION:PT1H
X-Robots-Tag:noindex
X-PUBLISHED-TTL:PT1H
BEGIN:VTIMEZONE
TZID:UTC
BEGIN:STANDARD
TZOFFSETFROM:+0000
TZOFFSETTO:+0000
TZNAME:UTC
DTSTART:20230101T000000
END:STANDARD
END:VTIMEZONE
BEGIN:VEVENT
DTSTART;TZID=UTC:20240701T173000
DTEND;TZID=UTC:20240701T203000
DTSTAMP:20260421T173223
CREATED:20240610T094603Z
LAST-MODIFIED:20240624T130903Z
UID:4502-1719855000-1719865800@artontarget.co.za
SUMMARY:Ceramic Banquet Exhibition
DESCRIPTION:The Ceramics Southern Africa Eastern Cape‘s upcoming exhibition\, Ceramic Banquet\, is set to showcase a diverse array of functional works from talented artists from across South Africa. This collaboration of creative talents is bound to offer a rich tapestry of styles and techniques\, highlighting the unique flavours and influences of each artist’s background. Art enthusiasts can look forward to a feast for the eyes as they immerse themselves in this celebration of banquet-inspired ceramic creations. \nRead more …
URL:https://artontarget.co.za/event/ceramic-banquet-exhibition/
LOCATION:Art on Target\, 2 Target Kloof\, Port Elizabeth\, Eastern Cape\, 6001\, South Africa
CATEGORIES:Exhibitions
END:VEVENT
END:VCALENDAR